BEGIN:VCALENDAR
VERSION:2.0
PRODID:-//eventon.com NONSGML v1.0//EN
CALSCALE:GREGORIAN
METHOD:PUBLISH
BEGIN:VEVENT
UID:69e8b2c1bc041
DTSTAMP:20260422T113633Z
DTSTART:20220613T160000Z
DTEND:20220613T170000Z
LOCATION:
SUMMARY:FRANCHISE YOUR BUSINESS: A Proven Strategy for Growth & Success
DESCRIPTION:Are you an entrepreneur and have run your business for at least
  a year? Have you ever thought about franchising your business into a natio
 nal brand? Is this the right growth strategy for you?  What you will learn
 : Why franchising is the growth strategy for entrepreneurs\,  especially du
 ring a global[..]\nhttps://thefranchisepros.net/event-directory/franchise-y
 our-business-a-proven-strategy-for-growth-success/
URL:https://thefranchisepros.net/event-directory/franchise-your-business-a-proven-strategy-for-growth-success/
END:VEVENT
END:VCALENDAR