BEGIN:VCALENDAR
VERSION:2.0
PRODID:-//eventon.com NONSGML v1.0//EN
CALSCALE:GREGORIAN
METHOD:PUBLISH
BEGIN:VEVENT
UID:69ed8c996963a
DTSTAMP:20260426T035505Z
DTSTART:20211019T210000Z
DTEND:20211019T230000Z
LOCATION:
SUMMARY:Greater Washington Hispanic Chamber of Commerce
DESCRIPTION:Greater Washington Hispanic Chamber of Commerce\nhttps://thefra
 nchisepros.net/event-directory/greater-washington-hispanic-chamber-of-comme
 rce/
URL:https://thefranchisepros.net/event-directory/greater-washington-hispanic-chamber-of-commerce/
END:VEVENT
END:VCALENDAR